BEGIN:VCALENDAR
VERSION:2.0
PRODID:-//Vulcan Works - ECPv6.15.20//NONSGML v1.0//EN
CALSCALE:GREGORIAN
METHOD:PUBLISH
X-WR-CALNAME:Vulcan Works
X-ORIGINAL-URL:https://vulcanworks.co.uk
X-WR-CALDESC:Events for Vulcan Works
REFRESH-INTERVAL;VALUE=DURATION:PT1H
X-Robots-Tag:noindex
X-PUBLISHED-TTL:PT1H
BEGIN:VTIMEZONE
TZID:UTC
BEGIN:STANDARD
TZOFFSETFROM:+0000
TZOFFSETTO:+0000
TZNAME:UTC
DTSTART:20220101T000000
END:STANDARD
END:VTIMEZONE
BEGIN:VEVENT
DTSTART;TZID=UTC:20230615T180000
DTEND;TZID=UTC:20230615T194500
DTSTAMP:20260422T161713
CREATED:20230705T155453Z
LAST-MODIFIED:20230705T155453Z
UID:463-1686852000-1686858300@vulcanworks.co.uk
SUMMARY:The Marketing Meetup
DESCRIPTION:The Marketing Meetup \nThe Marketing Meetup IRL: Northampton is coming to Vulcan Works on June 15th 6pm – 8pm! \nThis is networking but not as you know it!\nCome and join us\, chat over food and drink\, listen to the inspirational speaker  \, chat some more\, and go home buzzing with new contacts and new ideas. \nThis is the very first TMM IRL: Northampton event and we are super excited to be the venue hosting this awesome event!\n(£5 recommended donation which includes beers and pizzas!) \nSpeaker \nGary Gumbleton (Founder & Creative Director\, Capital Content) talking on – ‘how to create a video content strategy with a mobile phone and zero budget’
URL:https://vulcanworks.co.uk/event/the-marketing-meetup-2/
LOCATION:Vulcan Works\, 34-38 Guildhall Road\, Northampton\, Northampton\, NN1 1EW\, United Kingdom
ATTACH;FMTTYPE=image/jpeg:https://vulcanworks.co.uk/wp-content/uploads/2023/06/SIGN-e1687958537475.jpg
END:VEVENT
END:VCALENDAR