BEGIN:VCALENDAR
VERSION:2.0
PRODID:-//Vulcan Works - ECPv6.15.20//NONSGML v1.0//EN
CALSCALE:GREGORIAN
METHOD:PUBLISH
X-WR-CALNAME:Vulcan Works
X-ORIGINAL-URL:https://vulcanworks.co.uk
X-WR-CALDESC:Events for Vulcan Works
REFRESH-INTERVAL;VALUE=DURATION:PT1H
X-Robots-Tag:noindex
X-PUBLISHED-TTL:PT1H
BEGIN:VTIMEZONE
TZID:UTC
BEGIN:STANDARD
TZOFFSETFROM:+0000
TZOFFSETTO:+0000
TZNAME:UTC
DTSTART:20250101T000000
END:STANDARD
END:VTIMEZONE
BEGIN:VEVENT
DTSTART;TZID=UTC:20260424T090000
DTEND;TZID=UTC:20260424T170000
DTSTAMP:20260424T013510
CREATED:20260313T090815Z
LAST-MODIFIED:20260313T090835Z
UID:1384-1777021200-1777050000@vulcanworks.co.uk
SUMMARY:Vulcan Works Open Day
DESCRIPTION:Join us at Vulcan Works – Offices & Coworking Space for a day filled with networking\, and discovering new opportunities. Whether you’re a fr \n\n\n\n\nJoin us at Vulcan Works – Offices & Coworking Space for a day filled with networking\, and discovering new opportunities. Whether you’re a freelancer\, entrepreneur\, or just curious about coworking spaces\, this event is for you! \nExplore our modern facilities\, tour our offices and meet our vibrant community. Don’t miss this chance to see firsthand what makes Vulcan Works the perfect place to work and connect. \nMark your calendar and come along to Vulcan Works Open Day – we can’t wait to show you around! \nWhat to Expect: \n\nVenue Tours Explore our beautifully restored Victorian industrial building—home to coworking spaces\, private offices\, meeting rooms\, and collaborative breakout areas.\nMeet the Community Connect with current residents and local entrepreneurs\, hear their stories\, and discover how Vulcan Works supports business growth\nFree Hot Desking Try the space for yourself! Bring your laptop and enjoy a complimentary day of hot desking in our vibrant shared workspace.\nRefreshments & Networking Enjoy coffee and informal networking throughout the day.
URL:https://vulcanworks.co.uk/event/vulcan-works-open-day-3/
LOCATION:Vulcan Works\, 34-38 Guildhall Road\, Northampton\, Northampton\, NN1 1EW\, United Kingdom
ATTACH;FMTTYPE=image/png:https://vulcanworks.co.uk/wp-content/uploads/2026/03/Vulcan-works-1.png
ORGANIZER;CN="Vulcan Works":MAILTO:info@vulcanworks.co.uk
END:VEVENT
BEGIN:VEVENT
DTSTART;TZID=UTC:20260424T100000
DTEND;TZID=UTC:20260424T113000
DTSTAMP:20260424T013510
CREATED:20260331T110600Z
LAST-MODIFIED:20260331T110600Z
UID:1393-1777024800-1777030200@vulcanworks.co.uk
SUMMARY:Vulcan Sessions: Employment law changes in 2026-2027 with Haus of HR
DESCRIPTION:April 2026 marks the beginning of one of the biggest shifts in UK employment law in a generation. \n\n\n\n\nSession Overview: Employment Law Changes in 2026-2027: \nApril 2026 marks the beginning of one of the biggest shifts in UK employment law in a generation\, as the Employment Rights Act 2025 starts to take effect. Multiple major reforms land this April\, with further changes continuing into late 2026 and 2027. These changes introduce substantial new rights for workers and new obligations and risks for employers. \nThis session provides a clear\, practical overview of: \n\nThe April 2026 changes and what employers must action immediately\nKey reforms due later in 2026 and into 2027\nHow these changes affect HR processes\, policies\, contracts\, payroll and manager training\nReal‑world implications for SMEs\, especially around sickness absence\, family leave\, whistleblowing\, dismissal risk and union activity\nA roadmap to ensure employers remain compliant and prepared for the years ahead\n\nBio: \nRachel Collar is an award‑winning HR leader with over 25 years’ experience delivering global HR strategy – often within complex\, highly regulated and unionised environments. As the Founder of Haus of HR\, a leading Northamptonshire‑based HR consultancy\, she brings deep expertise in employment law\, employee relations and workforce change. A Fellow of the CIPD\, Rachel specialises in helping organisations navigate legislative reform\, strengthen compliance and build robust people frameworks. Rachel is known for translating complex employment law shifts into practical actions that empower employers to stay compliant\, confident and prepared.
URL:https://vulcanworks.co.uk/event/vulcan-sessions-employment-law-changes-in-2026-2027-with-haus-of-hr/
LOCATION:Vulcan Works\, 34-38 Guildhall Road\, Northampton\, Northampton\, NN1 1EW\, United Kingdom
ATTACH;FMTTYPE=image/png:https://vulcanworks.co.uk/wp-content/uploads/2026/03/Eventbrite.png
ORGANIZER;CN="Vulcan Works":MAILTO:info@vulcanworks.co.uk
END:VEVENT
END:VCALENDAR